BEGIN:VCALENDAR
VERSION:2.0
PRODID:icalendar-ruby
CALSCALE:GREGORIAN
METHOD:PUBLISH
BEGIN:VEVENT
DTSTAMP:20260421T221436Z
UID:22-758442@nhgs.church
DTSTART:20261001T000000Z
DTEND:20261001T010000Z
CLASS:PUBLIC
CREATED:20260421T171203
DESCRIPTION:
LAST-MODIFIED:20260421T171203
LOCATION:Sanctuary
SUMMARY:Midweek Service
URL;VALUE=URI:https://www.nhgs.church/events/midweek-service/2026-09-30
ATTACH;FILENAME=Church-Photo.jpg;FMTTYPE=image/jpeg:https://dq5pwpg1q8ru0.c
 loudfront.net/2024/01/24/19/52/10/4f9d338a-47a8-42d2-8e87-2365c1c6bd91/Chu
 rch-Photo.jpg
END:VEVENT
END:VCALENDAR
