BEGIN:VCALENDAR
VERSION:2.0
PRODID:icalendar-ruby
CALSCALE:GREGORIAN
METHOD:PUBLISH
BEGIN:VEVENT
DTSTAMP:20260421T205911Z
UID:12-757715@nhgs.church
DTSTART:20260927T153000Z
DTEND:20260927T164500Z
CLASS:PUBLIC
CREATED:20260421T143422
DESCRIPTION:Join us for our weekly morning service as we worship\, pray\, a
 nd hear from the Word of God. 
LAST-MODIFIED:20260421T143422
LOCATION:Sanctuary
SUMMARY: Worship Service
URL;VALUE=URI:https://www.nhgs.church/events/worship-service--12/2026-09-27
END:VEVENT
END:VCALENDAR
