BEGIN:VCALENDAR
VERSION:2.0
PRODID:icalendar-ruby
CALSCALE:GREGORIAN
METHOD:PUBLISH
BEGIN:VEVENT
DTSTAMP:20260421T222044Z
UID:12-758151@nhgs.church
DTSTART:20261004T153000Z
DTEND:20261004T164500Z
CLASS:PUBLIC
CREATED:20260421T171202
DESCRIPTION:Join us for our weekly morning service as we worship\, pray\, a
 nd hear from the Word of God. 
LAST-MODIFIED:20260421T171202
LOCATION:Sanctuary
SUMMARY: Worship Service
URL;VALUE=URI:https://www.nhgs.church/events/worship-service--12/2026-10-04
END:VEVENT
END:VCALENDAR
