BEGIN:VCALENDAR
VERSION:2.0
PRODID:icalendar-ruby
CALSCALE:GREGORIAN
METHOD:PUBLISH
BEGIN:VEVENT
DTSTAMP:20260422T005045Z
UID:12-758588@nhgs.church
DTSTART:20261018T153000Z
DTEND:20261018T164500Z
CLASS:PUBLIC
CREATED:20260421T195039
DESCRIPTION:Join us for our weekly morning service as we worship\, pray\, a
 nd hear from the Word of God. 
LAST-MODIFIED:20260421T195039
LOCATION:Sanctuary
SUMMARY: Worship Service
URL;VALUE=URI:https://www.nhgs.church/events/worship-service--12/2026-10-18
END:VEVENT
END:VCALENDAR
